BEGIN:VCALENDAR
VERSION:2.0
PRODID:-//BC Association of Clinical Counsellors - ECPv5.16.2.1//NONSGML v1.0//EN
CALSCALE:GREGORIAN
METHOD:PUBLISH
X-ORIGINAL-URL:https://bcacc.ca
X-WR-CALDESC:Events for BC Association of Clinical Counsellors
REFRESH-INTERVAL;VALUE=DURATION:PT1H
X-Robots-Tag:noindex
X-PUBLISHED-TTL:PT1H
BEGIN:VTIMEZONE
TZID:America/Vancouver
BEGIN:DAYLIGHT
TZOFFSETFROM:-0800
TZOFFSETTO:-0700
TZNAME:PDT
DTSTART:20250309T100000
END:DAYLIGHT
BEGIN:STANDARD
TZOFFSETFROM:-0700
TZOFFSETTO:-0800
TZNAME:PST
DTSTART:20251102T090000
END:STANDARD
END:VTIMEZONE
BEGIN:VEVENT
DTSTART;TZID=America/Vancouver:20251106T090000
DTEND;TZID=America/Vancouver:20251106T120000
DTSTAMP:20260425T053928
CREATED:20251009T001444Z
LAST-MODIFIED:20251009T001444Z
UID:143464-1762419600-1762430400@bcacc.ca
SUMMARY:Demand Avoidance in Autism - Workshop
DESCRIPTION:Integrating research with compassionate practice \nDemand Avoidance-sometimes described as a PDA profile-is a growing topic of interest for clinicians seeking to deepen their understanding of the diversity of experiences within the autism spectrum. \nRather than viewing these behaviours as oppositional or problematic\, this workshop invites participants to consider demand avoidance as a way to communicate a need for autonomy and reduce distress. \nRegister Now\nIn this workshop\, participants will: \n\nExplore the relationship between Autism and PDA\nRecognize key features often associated with the PDA profile\nLearn strategies to support clients who experience difficulty with everyday demands\nReview current and emerging research related to demand avoidance\nBecome familiar with relevant resources that inform compassionate and collaborative practice\n\nWhile PDA remains a topic of debate\, this workshop does not seek to take a position\, but rather to inform participants about the varied perspectives and emerging research\, encouraging reflection on how these insights can guide supportive and ethical practice.
URL:https://bcacc.ca/events/demand-avoidance-in-autism-workshop/
LOCATION:Online\, BC\, Canada
CATEGORIES:BCACC Workshop / Lunch & Learn
ATTACH;FMTTYPE=image/jpeg:https://bcacc.ca/wp-content/uploads/2025/10/PDA-Image.jpg
ORGANIZER;CN="BC%20Association%20of%20Clinical%20Counsellors":MAILTO:hoffice@bc-counsellors.org
END:VEVENT
END:VCALENDAR