BEGIN:VCALENDAR
VERSION:2.0
PRODID:-//BC Association of Clinical Counsellors - ECPv5.16.2.1//NONSGML v1.0//EN
CALSCALE:GREGORIAN
METHOD:PUBLISH
X-ORIGINAL-URL:https://bcacc.ca
X-WR-CALDESC:Events for BC Association of Clinical Counsellors
REFRESH-INTERVAL;VALUE=DURATION:PT1H
X-Robots-Tag:noindex
X-PUBLISHED-TTL:PT1H
BEGIN:VTIMEZONE
TZID:America/Vancouver
BEGIN:DAYLIGHT
TZOFFSETFROM:-0800
TZOFFSETTO:-0700
TZNAME:PDT
DTSTART:20250309T100000
END:DAYLIGHT
BEGIN:STANDARD
TZOFFSETFROM:-0700
TZOFFSETTO:-0800
TZNAME:PST
DTSTART:20251102T090000
END:STANDARD
END:VTIMEZONE
BEGIN:VEVENT
DTSTART;TZID=America/Vancouver:20251017T090000
DTEND;TZID=America/Vancouver:20251017T120000
DTSTAMP:20260424T210018
CREATED:20250909T070457Z
LAST-MODIFIED:20251008T203038Z
UID:142286-1760691600-1760702400@bcacc.ca
SUMMARY:Discussing Sexuality with Clients
DESCRIPTION:Ready to feel more comfortable addressing sexuality with your clients—even if they don’t bring it up themselves? This practical\, interactive workshop arms clinical counsellors with the skills and confidence to make sexuality a normalized part of therapy. \nRegister Now\nWATCH A CLIP FROM A PREVIOUS SESSION\, (Which was live) \n \nWhat You’ll Learn: \n\nApproaches for gently raising sexuality and sexual health during intake and throughout therapy.\nExpanded models of sexual response to help move beyond traditional perspectives.\nCulturally sensitive strategies for exploring client histories\, identities\, and relational styles\, including non-monogamy and polyamory.\nTools to navigate your own discomfort and create a safe space for open dialogue.\nReal-world language\, sample scripts\, and practical frameworks for every stage of the therapeutic process.
URL:https://bcacc.ca/events/discussing-sexuality-with-clients/
LOCATION:Virtual
CATEGORIES:BCACC Workshop / Lunch & Learn
ATTACH;FMTTYPE=image/png:https://bcacc.ca/wp-content/uploads/2025/07/Screenshot-2025-09-09-000037.png
END:VEVENT
END:VCALENDAR