BEGIN:VCALENDAR
VERSION:2.0
PRODID:-//BC Association of Clinical Counsellors - ECPv5.16.2.1//NONSGML v1.0//EN
CALSCALE:GREGORIAN
METHOD:PUBLISH
X-ORIGINAL-URL:https://bcacc.ca
X-WR-CALDESC:Events for BC Association of Clinical Counsellors
REFRESH-INTERVAL;VALUE=DURATION:PT1H
X-Robots-Tag:noindex
X-PUBLISHED-TTL:PT1H
BEGIN:VTIMEZONE
TZID:America/Vancouver
BEGIN:DAYLIGHT
TZOFFSETFROM:-0800
TZOFFSETTO:-0700
TZNAME:PDT
DTSTART:20250309T100000
END:DAYLIGHT
BEGIN:STANDARD
TZOFFSETFROM:-0700
TZOFFSETTO:-0800
TZNAME:PST
DTSTART:20251102T090000
END:STANDARD
END:VTIMEZONE
BEGIN:VEVENT
DTSTART;TZID=America/Vancouver:20251020T120000
DTEND;TZID=America/Vancouver:20251020T140000
DTSTAMP:20260425T080513
CREATED:20250827T123818Z
LAST-MODIFIED:20250827T123825Z
UID:142291-1760961600-1760968800@bcacc.ca
SUMMARY:Ethical Decision-Making in Practice
DESCRIPTION:An Interactive Workshop that Brings Ethics to Life\nEthical decision-making is central to our work\, but for many\, the guidelines and codes learned during graduate studies can fade into the background. This workshop is designed to bring those tools back into focus\, showing how the BCACC’s Code of Ethical Conduct\, Standards of Practice and decision-making guidelines can support you in navigating real-world complexities. \nRegister Now\nWhat to Expect: \n\nActive participation: Step into lively discussions where your voice matters and your perspective shapes the process.\nCollaborative exploration: There are no easy answers—this is about navigating gray areas together and building confidence in your ethical process.\nA fresh take on ethics: Discover how engaging – and even fun – it can be to tackle ethical dilemmas with curious\, like-minded colleagues.
URL:https://bcacc.ca/events/ethical-decision-making-in-practice/
LOCATION:Virtual
CATEGORIES:BCACC Workshop / Lunch & Learn
ATTACH;FMTTYPE=image/png:https://bcacc.ca/wp-content/uploads/2025/07/ethics-workshop-image.png
END:VEVENT
END:VCALENDAR