BEGIN:VCALENDAR
VERSION:2.0
PRODID:-//BC Association of Clinical Counsellors - ECPv5.16.2.1//NONSGML v1.0//EN
CALSCALE:GREGORIAN
METHOD:PUBLISH
X-ORIGINAL-URL:https://bcacc.ca
X-WR-CALDESC:Events for BC Association of Clinical Counsellors
REFRESH-INTERVAL;VALUE=DURATION:PT1H
X-Robots-Tag:noindex
X-PUBLISHED-TTL:PT1H
BEGIN:VTIMEZONE
TZID:America/Vancouver
BEGIN:DAYLIGHT
TZOFFSETFROM:-0800
TZOFFSETTO:-0700
TZNAME:PDT
DTSTART:20260308T100000
END:DAYLIGHT
BEGIN:STANDARD
TZOFFSETFROM:-0700
TZOFFSETTO:-0800
TZNAME:PST
DTSTART:20261101T090000
END:STANDARD
END:VTIMEZONE
BEGIN:VEVENT
DTSTART;TZID=America/Vancouver:20260129T120000
DTEND;TZID=America/Vancouver:20260129T133000
DTSTAMP:20260425T140814
CREATED:20251217T224927Z
LAST-MODIFIED:20260129T184103Z
UID:144416-1769688000-1769693400@bcacc.ca
SUMMARY:Strengthening Clinical Processes: Relationally Grounded Care and Indigenous Cultural Safety for Agency Counsellors (Emerging Practices)
DESCRIPTION:Join us for a meaningful conversation with Len Pierre (Len Pierre Consulting) and Azadeh Miley\, RCC\, ACS\, as they explore emerging processes in decolonizing clinical applications in agency and organizational settings. \nAzadeh and Len have worked together to examine practices within the Health Authority\, exploring how agencies can address colonial frameworks embedded in clinical processes. Drawing from this work they’ll share insights on navigating the challenges and opportunities that may arise when intention meets implementation. \nThis session will offer both Indigenous and clinical agency-based perspectives on creating culturally safer\, and more relationally grounded care. \nThe session is designed intentionally\, as a non-judgmental space where you can reflect where colonial frameworks may appear in your clinical counselling processes. It’s also a way to celebrate and share the strides you’re already making toward a more culturally informed practice. \nThrough guided discussion and a focused breakout session\, you can examine an aspect of your own processes with an emphasis on learning\, hope\, and removing shame or fear around “getting it wrong.” This is an opportunity to lead with curiosity\, validate the good work already happening\, and begin an honest conversation about reconciliation in clinical settings. \nLearn More & Register
URL:https://bcacc.ca/events/strengthening-clinical-processes-relationally-grounded-care-and-indigenous-cultural-safety-for-agency-counsellors-emerging-practices/
LOCATION:Online\, BC\, Canada
CATEGORIES:BCACC Workshop / Lunch & Learn
ATTACH;FMTTYPE=image/jpeg:https://bcacc.ca/wp-content/uploads/2025/12/processes.jpg
ORGANIZER;CN="BC%20Association%20of%20Clinical%20Counsellors":MAILTO:hoffice@bc-counsellors.org
END:VEVENT
END:VCALENDAR