BEGIN:VCALENDAR
VERSION:2.0
PRODID:-//BC Association of Clinical Counsellors - ECPv5.16.2.1//NONSGML v1.0//EN
CALSCALE:GREGORIAN
METHOD:PUBLISH
X-ORIGINAL-URL:https://bcacc.ca
X-WR-CALDESC:Events for BC Association of Clinical Counsellors
REFRESH-INTERVAL;VALUE=DURATION:PT1H
X-Robots-Tag:noindex
X-PUBLISHED-TTL:PT1H
BEGIN:VTIMEZONE
TZID:America/Vancouver
BEGIN:DAYLIGHT
TZOFFSETFROM:-0800
TZOFFSETTO:-0700
TZNAME:PDT
DTSTART:20260308T100000
END:DAYLIGHT
BEGIN:STANDARD
TZOFFSETFROM:-0700
TZOFFSETTO:-0800
TZNAME:PST
DTSTART:20261101T090000
END:STANDARD
END:VTIMEZONE
BEGIN:VEVENT
DTSTART;TZID=America/Vancouver:20260206T093000
DTEND;TZID=America/Vancouver:20260206T120000
DTSTAMP:20260425T130452
CREATED:20251217T225719Z
LAST-MODIFIED:20251217T230443Z
UID:144431-1770370200-1770379200@bcacc.ca
SUMMARY:Practice Labs: Supervision of Supervision
DESCRIPTION:Supervision of supervision is a reflective space where supervisors examine their own supervision practice\, receiving feedback and support. This process helps supervisors clarify their model for supervision\, refine their interventions\, understand how their values and identities shape their work with supervisees and deepen their inner wisdom. \nRegular Supervision of Supervision practice strengthens supervisory confidence\, deepens ethical awareness\, and ultimately improves the quality of supervision offered to others. \nThese three online practice labs invite experienced supervisors and consultants to deepen their capacity to supervise supervision itself\, using a relational\, reflective frame illustrated in part through the seven-eyed model of supervision. Across the series\, participants will bring real supervision dilemmas and questions\, work collaboratively with peers\, and receive feedback on their supervisory style\, interventions\, and use of self in the supervisory relationship. \nEach session is highly experiential and requires that participants are already providing clinical supervision to others. \nThrough practice\, case discussions\, and focused reflection\, the group will explore how both our practice and selves show up in Supervision of Supervision work\, and how these factors shape both process and outcomes. \nIt is expected that you will be able to show up live and actively participate for all three sessions to get your certificate of attendance.
URL:https://bcacc.ca/events/practice-labs-supervision-of-supervision/2026-02-06/
LOCATION:Online\, BC\, Canada
CATEGORIES:BCACC Workshop / Lunch & Learn
ATTACH;FMTTYPE=image/jpeg:https://bcacc.ca/wp-content/uploads/2025/12/sos.jpg
ORGANIZER;CN="BC%20Association%20of%20Clinical%20Counsellors":MAILTO:hoffice@bc-counsellors.org
END:VEVENT
END:VCALENDAR