BEGIN:VCALENDAR
VERSION:2.0
PRODID:-//BC Association of Clinical Counsellors - ECPv5.16.2.1//NONSGML v1.0//EN
CALSCALE:GREGORIAN
METHOD:PUBLISH
X-ORIGINAL-URL:https://bcacc.ca
X-WR-CALDESC:Events for BC Association of Clinical Counsellors
REFRESH-INTERVAL;VALUE=DURATION:PT1H
X-Robots-Tag:noindex
X-PUBLISHED-TTL:PT1H
BEGIN:VTIMEZONE
TZID:America/Vancouver
BEGIN:DAYLIGHT
TZOFFSETFROM:-0800
TZOFFSETTO:-0700
TZNAME:PDT
DTSTART:20260308T100000
END:DAYLIGHT
BEGIN:STANDARD
TZOFFSETFROM:-0700
TZOFFSETTO:-0800
TZNAME:PST
DTSTART:20261101T090000
END:STANDARD
END:VTIMEZONE
BEGIN:VEVENT
DTSTART;TZID=America/Vancouver:20260220T110000
DTEND;TZID=America/Vancouver:20260220T130000
DTSTAMP:20260425T092508
CREATED:20260106T190631Z
LAST-MODIFIED:20260211T223215Z
UID:144688-1771585200-1771592400@bcacc.ca
SUMMARY:Working with Autistic Clients: Foundations of a Neuro-affirming Practice
DESCRIPTION:Many autistic adults arrive at our offices already impacted by years of navigating a world not built for them\, depleting their energy through masking\, and struggling within systems meant to support them. \nThis workshop offers you\, as an RCC\, a deeper understanding of what neuro-affirming care truly is. \nMany practitioners believe they’re offering neuro-affirming care when the reality is more complex. Neuro-affirming care isn’t just about being supportive. It’s a paradigm shift that requires deeper work and a willingness to sit with discomfort. \nThis workshop will guide you through: \n\nUnderstanding the Neurodiversity Paradigm: What it really means to be neuro-affirming\, why it stands apart from other modalities\, and how behavioralist approaches can conflict with affirming care\nLanguage that matters: Moving beyond person-first language and understanding the neuro paradigm accurately\nDeveloping a neuro-affirming lens: A way of being with autistic clients that shapes the therapeutic environment you create\nAdapting your practice: Making shifts in how you approach working with autistic clients to create environments where they can thrive\nPost-diagnosis support: Navigating systems\, securing accommodations\, and preventing burnout for clients living in ableist spaces\nReal stories impact: Hearing from practitioners about the harm caused by non-affirming approaches\, and how to avoid those missteps\n\nThis workshop features two incredibly dedicated presenters who bring both lived and professional experience. Dr. Juliane Dmyterko & Autistic RCC Oralie Loong will first build your foundational knowledge\, then help you translate these concepts directly into your RCC practice through case studies and clinical application. \nYou’ll walk away with: \n\nA model of neuro-affirming care you can apply immediately\nUnderstanding of what it looks like if you want to be “neuro-affirming” in practice\nGreater confidence in supporting autistic clients and less chance of causing unintentional harm\n\nThis is challenging\, transformative\, and hopeful work. Join us to deepen your cultural competency and become a safer\, more affirming practitioner for your autistic clients.
URL:https://bcacc.ca/events/working-with-autistic-clients-foundations-of-a-neuro-affirming-practice/
LOCATION:Online\, BC\, Canada
CATEGORIES:BCACC Workshop / Lunch & Learn
ATTACH;FMTTYPE=image/jpeg:https://bcacc.ca/wp-content/uploads/2026/01/AdobeStock_1839480186-scaled.jpeg
ORGANIZER;CN="BC%20Association%20of%20Clinical%20Counsellors":MAILTO:hoffice@bc-counsellors.org
END:VEVENT
END:VCALENDAR