BEGIN:VCALENDAR
VERSION:2.0
PRODID:-//BC Association of Clinical Counsellors - ECPv5.16.2.1//NONSGML v1.0//EN
CALSCALE:GREGORIAN
METHOD:PUBLISH
X-ORIGINAL-URL:https://bcacc.ca
X-WR-CALDESC:Events for BC Association of Clinical Counsellors
REFRESH-INTERVAL;VALUE=DURATION:PT1H
X-Robots-Tag:noindex
X-PUBLISHED-TTL:PT1H
BEGIN:VTIMEZONE
TZID:America/Vancouver
BEGIN:DAYLIGHT
TZOFFSETFROM:-0800
TZOFFSETTO:-0700
TZNAME:PDT
DTSTART:20260308T100000
END:DAYLIGHT
BEGIN:STANDARD
TZOFFSETFROM:-0700
TZOFFSETTO:-0800
TZNAME:PST
DTSTART:20261101T090000
END:STANDARD
END:VTIMEZONE
BEGIN:VEVENT
DTSTART;TZID=America/Vancouver:20260309T090000
DTEND;TZID=America/Vancouver:20260309T120000
DTSTAMP:20260421T162336
CREATED:20260203T170426Z
LAST-MODIFIED:20260203T171104Z
UID:145228-1773046800-1773057600@bcacc.ca
SUMMARY:Countertransference: Friend or Foe?
DESCRIPTION:  \n \nThis workshop explores countertransference as an inevitable and clinically useful aspect of counselling work.  \nWe’ll examine classic and contemporary understandings of countertransference and how it shows somatically\, emotionally\, relationally\, and behaviorally in both individual and group contexts.  \nAttention will be given to how countertransference can emerge differently across roles\, relational positions\, and group dynamics\, and how it can be used as a source of clinical information rather than something to be avoided or shut down.  \nWhy it’s important \nCountertransference is one of the primary instruments of clinical work — yet it’s often under-discussed\, pathologized\, or addressed only when something has gone wrong. Developing awareness of countertransference supports ethical practice\, strengthens therapeutic alliances\, and helps counsellors work more effectively with complexity\, intensity\, and rupture.  \nWho it’s suited for  \nThis workshop is well-suited for counsellors\, clinical supervisors\, and advanced trainees across modalities\, given the pervasive role of countertransference in therapeutic relationships.  \nWhat you’ll walk away with: \n\nGreater ease and confidence in talking about countertransference in clinical supervision A\nA clearer\, normalized understanding of countertransference \nIncreased awareness of their own countertransference signals \nPractical ways to work with countertransference rather than against it
URL:https://bcacc.ca/events/countertransference-friend-or-foe/
LOCATION:Online\, BC\, Canada
CATEGORIES:BCACC Workshop / Lunch & Learn
ATTACH;FMTTYPE=image/jpeg:https://bcacc.ca/wp-content/uploads/2026/02/countertransference.jpg
ORGANIZER;CN="BC%20Association%20of%20Clinical%20Counsellors":MAILTO:hoffice@bc-counsellors.org
END:VEVENT
END:VCALENDAR