BEGIN:VCALENDAR
VERSION:2.0
PRODID:-//BC Association of Clinical Counsellors - ECPv5.16.2.1//NONSGML v1.0//EN
CALSCALE:GREGORIAN
METHOD:PUBLISH
X-WR-CALNAME:BC Association of Clinical Counsellors
X-ORIGINAL-URL:https://bcacc.ca
X-WR-CALDESC:Events for BC Association of Clinical Counsellors
REFRESH-INTERVAL;VALUE=DURATION:PT1H
X-Robots-Tag:noindex
X-PUBLISHED-TTL:PT1H
BEGIN:VTIMEZONE
TZID:America/Vancouver
BEGIN:DAYLIGHT
TZOFFSETFROM:-0800
TZOFFSETTO:-0700
TZNAME:PDT
DTSTART:20260308T100000
END:DAYLIGHT
BEGIN:STANDARD
TZOFFSETFROM:-0700
TZOFFSETTO:-0800
TZNAME:PST
DTSTART:20261101T090000
END:STANDARD
END:VTIMEZONE
BEGIN:VEVENT
DTSTART;TZID=America/Vancouver:20260407T100000
DTEND;TZID=America/Vancouver:20260407T120000
DTSTAMP:20260425T060048
CREATED:20260203T172319Z
LAST-MODIFIED:20260401T203715Z
UID:145182-1775556000-1775563200@bcacc.ca
SUMMARY:Marketing That Feels Like You: The Seven Fundamentals for Counsellors
DESCRIPTION:  \n \nIf you’re reading this\, you’re likely a counsellor who feels conflicted about marketing. Maybe you avoid it altogether. Maybe you’ve tried it and it felt awful. Maybe you’re doing it but it doesn’t feel like you. \nHere’s the thing:\nThe marketplace is crowded. Everyone is promoting themselves all the time. \nThe noise is overwhelming\, for you and for the people trying to find you. Most of what we’ve been taught about marketing feels pushy\, manipulative\, or deeply uncomfortable. \nSo we resist it. We avoid it. We do nothing. And the clients who need us most can’t find us. \nThis two-part workshop is for counsellors who want to cut through that noise and be findable—without scripts\, without pressure\, without selling out.
URL:https://bcacc.ca/events/marketing-that-feels-like-you-the-seven-fundamentals-for-counsellors/
LOCATION:Online\, BC\, Canada
CATEGORIES:BCACC Workshop / Lunch & Learn
ATTACH;FMTTYPE=image/jpeg:https://bcacc.ca/wp-content/uploads/2026/01/AdobeStock-Marketing-March-31-2026.jpeg
ORGANIZER;CN="BC%20Association%20of%20Clinical%20Counsellors":MAILTO:hoffice@bc-counsellors.org
END:VEVENT
END:VCALENDAR