BEGIN:VCALENDAR
VERSION:2.0
PRODID:-//BC Association of Clinical Counsellors - ECPv5.16.2.1//NONSGML v1.0//EN
CALSCALE:GREGORIAN
METHOD:PUBLISH
X-WR-CALNAME:BC Association of Clinical Counsellors
X-ORIGINAL-URL:https://bcacc.ca
X-WR-CALDESC:Events for BC Association of Clinical Counsellors
REFRESH-INTERVAL;VALUE=DURATION:PT1H
X-Robots-Tag:noindex
X-PUBLISHED-TTL:PT1H
BEGIN:VTIMEZONE
TZID:America/Vancouver
BEGIN:DAYLIGHT
TZOFFSETFROM:-0800
TZOFFSETTO:-0700
TZNAME:PDT
DTSTART:20260308T100000
END:DAYLIGHT
BEGIN:STANDARD
TZOFFSETFROM:-0700
TZOFFSETTO:-0800
TZNAME:PST
DTSTART:20261101T090000
END:STANDARD
END:VTIMEZONE
BEGIN:VEVENT
DTSTART;TZID=America/Vancouver:20260422T120000
DTEND;TZID=America/Vancouver:20260422T131500
DTSTAMP:20260425T060304
CREATED:20251217T223905Z
LAST-MODIFIED:20260219T031313Z
UID:144409-1776859200-1776863700@bcacc.ca
SUMMARY:Ergonomics Essentials: Posture\, Productivity\, and Pain-Free Workdays
DESCRIPTION:Discover what good posture truly looks like when working at a computer and learn how to properly adjust your office chair and position your monitor\, keyboard\, and mouse to support both comfort and productivity throughout your day. \nWhile the human body is designed for movement\, today’s sedentary work environments often limit our opportunities to stay active. \nIn this session\, we’ll introduce a series of simple\, office-appropriate exercises that can be easily integrated into your daily routine to help keep your body engaged\, reduce fatigue\, and support long-term musculoskeletal health. \nRegister Now
URL:https://bcacc.ca/events/ergonomics-essentials-posture-productivity-and-pain-free-workdays/
LOCATION:Online\, BC\, Canada
CATEGORIES:BCACC Workshop / Lunch & Learn
ATTACH;FMTTYPE=image/jpeg:https://bcacc.ca/wp-content/uploads/2025/12/erg.jpg
ORGANIZER;CN="BC%20Association%20of%20Clinical%20Counsellors":MAILTO:hoffice@bc-counsellors.org
END:VEVENT
END:VCALENDAR