BEGIN:VCALENDAR
VERSION:2.0
PRODID:-//BC Association of Clinical Counsellors - ECPv5.16.2.1//NONSGML v1.0//EN
CALSCALE:GREGORIAN
METHOD:PUBLISH
X-ORIGINAL-URL:https://bcacc.ca
X-WR-CALDESC:Events for BC Association of Clinical Counsellors
REFRESH-INTERVAL;VALUE=DURATION:PT1H
X-Robots-Tag:noindex
X-PUBLISHED-TTL:PT1H
BEGIN:VTIMEZONE
TZID:America/Vancouver
BEGIN:DAYLIGHT
TZOFFSETFROM:-0800
TZOFFSETTO:-0700
TZNAME:PDT
DTSTART:20260308T100000
END:DAYLIGHT
BEGIN:STANDARD
TZOFFSETFROM:-0700
TZOFFSETTO:-0800
TZNAME:PST
DTSTART:20261101T090000
END:STANDARD
END:VTIMEZONE
BEGIN:VEVENT
DTSTART;TZID=America/Vancouver:20260527T130000
DTEND;TZID=America/Vancouver:20260527T153000
DTSTAMP:20260424T191141
CREATED:20260416T171919Z
LAST-MODIFIED:20260416T172058Z
UID:145964-1779886800-1779895800@bcacc.ca
SUMMARY:Supporting adult survivors of sexual assault
DESCRIPTION:A comprehensive workshop for counsellors who support adult survivors of sexual assault.\nThis course equips you with practical tools\, critical insight\, and structured frameworks to confidently support survivors through complex legal processes and the journey of recovery. \nWhat you’ll learn:\n\nRecognize and challenge rape culture and rape myths in yourself\, clients\, and society\nApply an intersectional lens to how identity shapes survivors’ experiences post-assault\nPractice cultural humility and recognize how your own identity influences your clinical work\nProvide trauma-informed support when survivors are making decisions about reporting\nUnderstand Canadian sexual assault law and how to prepare survivors for court processes\nExplore alternative justice options like restorative and transformative justice approaches\nGain therapeutic skills such as nervous system regulation and pleasure-centred healing\nIntegrate embodied advocacy and activism to shift the needle on sexual assault justice
URL:https://bcacc.ca/events/healing-from-justice-supporting-adult-survivors-of-sexual-assault/
LOCATION:Online\, BC\, Canada
CATEGORIES:BCACC Workshop / Lunch & Learn
ATTACH;FMTTYPE=image/jpeg:https://bcacc.ca/wp-content/uploads/2026/04/Justice.jpg
ORGANIZER;CN="BC%20Association%20of%20Clinical%20Counsellors":MAILTO:hoffice@bc-counsellors.org
END:VEVENT
END:VCALENDAR