BEGIN:VCALENDAR
VERSION:2.0
PRODID:-//BC Association of Clinical Counsellors - ECPv5.16.2.1//NONSGML v1.0//EN
CALSCALE:GREGORIAN
METHOD:PUBLISH
X-ORIGINAL-URL:https://bcacc.ca
X-WR-CALDESC:Events for BC Association of Clinical Counsellors
REFRESH-INTERVAL;VALUE=DURATION:PT1H
X-Robots-Tag:noindex
X-PUBLISHED-TTL:PT1H
BEGIN:VTIMEZONE
TZID:America/Vancouver
BEGIN:DAYLIGHT
TZOFFSETFROM:-0800
TZOFFSETTO:-0700
TZNAME:PDT
DTSTART:20260308T100000
END:DAYLIGHT
BEGIN:STANDARD
TZOFFSETFROM:-0700
TZOFFSETTO:-0800
TZNAME:PST
DTSTART:20261101T090000
END:STANDARD
END:VTIMEZONE
BEGIN:VEVENT
DTSTART;VALUE=DATE:20260605
DTEND;VALUE=DATE:20260607
DTSTAMP:20260424T191101
CREATED:20251217T233850Z
LAST-MODIFIED:20251217T233902Z
UID:144457-1780617600-1780790399@bcacc.ca
SUMMARY:Victoria: Regional Roadshow
DESCRIPTION: \nGet all the details\n\n\n\nDAY 1\nFull Day Workshop\nBeyond the Wound: Implementing Effective Trauma Interventions \nPsychological trauma impacts between 60 and 76% of Canadians\, according to the Canadian Psychological Association and Health Canada. Of those\, approximately 9% will develop PTSD\, though many others will have their trauma manifest as other mental health disorders\, such as depression and anxiety. Such statistics highlight that the impact of trauma is pervasive\, multifaceted\, varied\, and often lasts a lifetime\, which creates complexity for assessors and treatment providers. \nIn this workshop: \n> Dr. Carissa Muth will begin by providing a foundation based on the neuroscience of trauma\, including current theories on the etiology of PTSD and Complex PTSD. \n> Building on this understanding\, the workshop will provide an overview of assessing trauma\, including differential diagnoses\, which is imperative to implementing effective treatments. \n> Rather than defaulting to a single treatment method whenever a client presents with trauma\, this workshop will guide participants in matching evidence-based treatment methods with presentations of trauma. \n> Primarily\, this workshop will present a staged approach to addressing trauma that includes the integration of therapeutic methods such as narrative therapy\, CBT\, DBT skills\, and positive psychology. \nPresenter: Dr Carissa Muth \, PsyD\, RPsych \nEvening Social Reception\nJoin us for a casual evening following the first full day of learning. This is a wonderful opportunity to connect with fellow RCCs from across your region. Deepen professional relationships\, share insights from the day’s learning\, and build connections within BC’s mental health community. \nDAY 2\nStakeholder Roundtable Discussion\nThis is where your voice can shape regional mental health policy. \nJoin a this dialogue with government officials\, service partners\, health authority representatives\, and fellow practitioners to surface barriers\, discuss emerging client needs\, and co-create solutions that reflect front-line realities. \n1/2 Day Workshop\nBeyond the Surface: Understanding the Intersections of Trauma\, Adverse Events\, and Opioid Harms in BC  \nEvent Registration
URL:https://bcacc.ca/events/victoria-regional-roadshow/
LOCATION:Victoria: Hotel Grand Pacific\, 463 Belleville St\, Victoria\, BC\, V8V 1X3\, Canada
CATEGORIES:BCACC Workshop / Lunch & Learn
ATTACH;FMTTYPE=image/jpeg:https://bcacc.ca/wp-content/uploads/2025/12/bby.jpg
ORGANIZER;CN="BC%20Association%20of%20Clinical%20Counsellors":MAILTO:hoffice@bc-counsellors.org
END:VEVENT
END:VCALENDAR