BEGIN:VCALENDAR
VERSION:2.0
PRODID:-//BC Association of Clinical Counsellors - ECPv5.16.2.1//NONSGML v1.0//EN
CALSCALE:GREGORIAN
METHOD:PUBLISH
X-ORIGINAL-URL:https://bcacc.ca
X-WR-CALDESC:Events for BC Association of Clinical Counsellors
REFRESH-INTERVAL;VALUE=DURATION:PT1H
X-Robots-Tag:noindex
X-PUBLISHED-TTL:PT1H
BEGIN:VTIMEZONE
TZID:America/Vancouver
BEGIN:DAYLIGHT
TZOFFSETFROM:-0800
TZOFFSETTO:-0700
TZNAME:PDT
DTSTART:20250309T100000
END:DAYLIGHT
BEGIN:STANDARD
TZOFFSETFROM:-0700
TZOFFSETTO:-0800
TZNAME:PST
DTSTART:20251102T090000
END:STANDARD
END:VTIMEZONE
BEGIN:VEVENT
DTSTART;TZID=America/Vancouver:20251002T120000
DTEND;TZID=America/Vancouver:20251002T130000
DTSTAMP:20260424T075709
CREATED:20250827T124601Z
LAST-MODIFIED:20250916T202707Z
UID:140121-1759406400-1759410000@bcacc.ca
SUMMARY:Lunch & Learn: Demystifying the Complaints Process
DESCRIPTION:Join our Regulation Team for an informative Lunch & Learn designed to bring clarity to the complaint process and the essential role of clinical supervisors. \nWhether you are a seasoned clinical supervisor\, considering supervision\, or simply curious about the complaint resolution pathway\, this session will equip you with practical insights to confidently navigate your responsibilities. \nRegister Now\nWhat we’ll cover: \n\nA clear review of the Inquiry Process\nGain an understanding of the steps involved\, with a special focus on the role of the clinical supervisor in Consent Agreements and resolution\nMinimum requirements to be a clinical supervision/consult\nLearn what qualifies you to act as a supervisor or consultant in the consent agreement completion\nMeeting complaint resolution requirements\nDiscover supervisor expectations and best practices for assisting RCCs through the resolution process.\nHow complaint supervision differs from typical supervision\nUnderstand the unique aspects and additional considerations in this specialized form of supervision.\nAvoiding role confusion and pitfalls\nSome tips to manage the dual role of supervisor and consultant and to avoid common challenges and misunderstandings.
URL:https://bcacc.ca/events/lunch-learn-demystifying-the-complaints-process/
LOCATION:Online\, BC\, Canada
CATEGORIES:BCACC Workshop / Lunch & Learn,Member Only Event
ATTACH;FMTTYPE=image/jpeg:https://bcacc.ca/wp-content/uploads/2025/02/online_complaints.jpg
ORGANIZER;CN="BC%20Association%20of%20Clinical%20Counsellors":MAILTO:hoffice@bc-counsellors.org
END:VEVENT
END:VCALENDAR