BEGIN:VCALENDAR
VERSION:2.0
PRODID:-//BC Association of Clinical Counsellors - ECPv5.16.2.1//NONSGML v1.0//EN
CALSCALE:GREGORIAN
METHOD:PUBLISH
X-WR-CALNAME:BC Association of Clinical Counsellors
X-ORIGINAL-URL:https://bcacc.ca
X-WR-CALDESC:Events for BC Association of Clinical Counsellors
REFRESH-INTERVAL;VALUE=DURATION:PT1H
X-Robots-Tag:noindex
X-PUBLISHED-TTL:PT1H
BEGIN:VTIMEZONE
TZID:America/Vancouver
BEGIN:DAYLIGHT
TZOFFSETFROM:-0800
TZOFFSETTO:-0700
TZNAME:PDT
DTSTART:20250309T100000
END:DAYLIGHT
BEGIN:STANDARD
TZOFFSETFROM:-0700
TZOFFSETTO:-0800
TZNAME:PST
DTSTART:20251102T090000
END:STANDARD
END:VTIMEZONE
BEGIN:VEVENT
DTSTART;TZID=America/Vancouver:20250320T120000
DTEND;TZID=America/Vancouver:20250320T130000
DTSTAMP:20260424T204256
CREATED:20250219T002425Z
LAST-MODIFIED:20250219T002523Z
UID:140186-1742472000-1742475600@bcacc.ca
SUMMARY:Lunch & Learn | Navigating BCACC Complaints: A Guide for Clinical Counsellors
DESCRIPTION:Join us for an insightful lunch and learn session with Harpreet Dosanjh\, Senior Lawyer and Mediator\, as she provides essential guidance on handling complaints filed with the BC Association of Clinical Counsellors (BCACC). With 15 years of experience in litigation and professional liability\, Harpreet will share her expertise in regulatory work and professional defense\, offering valuable insights for clinical counsellors facing complaints or disciplinary proceedings. \n  \nRegister Now\n  \n 
URL:https://bcacc.ca/events/lunch-learn-navigating-bcacc-complaints/
LOCATION:Virtual
CATEGORIES:Member Only Event
ATTACH;FMTTYPE=image/jpeg:https://bcacc.ca/wp-content/uploads/2025/02/online_complaints.jpg
END:VEVENT
END:VCALENDAR