BEGIN:VCALENDAR
VERSION:2.0
PRODID:-//BC Association of Clinical Counsellors - ECPv5.16.2.1//NONSGML v1.0//EN
CALSCALE:GREGORIAN
METHOD:PUBLISH
X-ORIGINAL-URL:https://bcacc.ca
X-WR-CALDESC:Events for BC Association of Clinical Counsellors
REFRESH-INTERVAL;VALUE=DURATION:PT1H
X-Robots-Tag:noindex
X-PUBLISHED-TTL:PT1H
BEGIN:VTIMEZONE
TZID:America/Vancouver
BEGIN:DAYLIGHT
TZOFFSETFROM:-0800
TZOFFSETTO:-0700
TZNAME:PDT
DTSTART:20250309T100000
END:DAYLIGHT
BEGIN:STANDARD
TZOFFSETFROM:-0700
TZOFFSETTO:-0800
TZNAME:PST
DTSTART:20251102T090000
END:STANDARD
END:VTIMEZONE
BEGIN:VEVENT
DTSTART;TZID=America/Vancouver:20250619T120000
DTEND;TZID=America/Vancouver:20250619T130000
DTSTAMP:20260424T164046
CREATED:20250516T222245Z
LAST-MODIFIED:20250516T222245Z
UID:141715-1750334400-1750338000@bcacc.ca
SUMMARY:Town Hall | Regulation Updates
DESCRIPTION:Stay Informed\, Stay Connected\nJoin us at BCACC’s upcoming Town Hall\, where our CEO\, Michael Radano\, will guide you through the latest developments in the regulation process for clinical counsellors in BC. As your professional association\, we’re committed to keeping you updated and supported every step of the way. This is your opportunity to hear the latest\, find out what we are doing as an association\, and ask questions as we navigate this important change together. \n  \nRegister Now
URL:https://bcacc.ca/events/town-hall-regulation-updates/
LOCATION:Virtual
CATEGORIES:Member Only Event
ATTACH;FMTTYPE=image/png:https://bcacc.ca/wp-content/uploads/2025/05/hand-up-image.png
END:VEVENT
END:VCALENDAR