BEGIN:VCALENDAR
VERSION:2.0
PRODID:-//BC Association of Clinical Counsellors - ECPv5.16.2.1//NONSGML v1.0//EN
CALSCALE:GREGORIAN
METHOD:PUBLISH
X-ORIGINAL-URL:https://bcacc.ca
X-WR-CALDESC:Events for BC Association of Clinical Counsellors
REFRESH-INTERVAL;VALUE=DURATION:PT1H
X-Robots-Tag:noindex
X-PUBLISHED-TTL:PT1H
BEGIN:VTIMEZONE
TZID:America/Vancouver
BEGIN:DAYLIGHT
TZOFFSETFROM:-0800
TZOFFSETTO:-0700
TZNAME:PDT
DTSTART:20250309T100000
END:DAYLIGHT
BEGIN:STANDARD
TZOFFSETFROM:-0700
TZOFFSETTO:-0800
TZNAME:PST
DTSTART:20251102T090000
END:STANDARD
END:VTIMEZONE
BEGIN:VEVENT
DTSTART;TZID=America/Vancouver:20250724T120000
DTEND;TZID=America/Vancouver:20250724T130000
DTSTAMP:20260424T150959
CREATED:20250718T174906Z
LAST-MODIFIED:20250718T174906Z
UID:142273-1753358400-1753362000@bcacc.ca
SUMMARY:Town Hall: Regulation of Clinical Counsellors & Psychotherapists in BC
DESCRIPTION:Join us for a very special BCACC Town hall\nBCACC CEO\, Michael Radano breaks down the July 16 announcement on new regulatory updates and what it means for RCCs and the profession. \nRegister Now\nHere’s what you can expect: \n\nWhat does this mean for RCCs? What do RCCs need to do?\nKey timelines\nTransition process\nInformation about the regulatory college\nBCACC’s advocacy effort\nAccess the most up-to-date\, reliable information\, understand the roadmap to regulation\, and have all your questions answered\n\n 
URL:https://bcacc.ca/events/town-hall-regulation-of-clinical-counsellors-psychotherapists-in-bc/
LOCATION:Virtual
CATEGORIES:Member Only Event
ATTACH;FMTTYPE=image/png:https://bcacc.ca/wp-content/uploads/2025/05/hand-up-image.png
END:VEVENT
END:VCALENDAR