BEGIN:VCALENDAR
VERSION:2.0
PRODID:-//BC Association of Clinical Counsellors - ECPv5.16.2.1//NONSGML v1.0//EN
CALSCALE:GREGORIAN
METHOD:PUBLISH
X-WR-CALNAME:BC Association of Clinical Counsellors
X-ORIGINAL-URL:https://bcacc.ca
X-WR-CALDESC:Events for BC Association of Clinical Counsellors
REFRESH-INTERVAL;VALUE=DURATION:PT1H
X-Robots-Tag:noindex
X-PUBLISHED-TTL:PT1H
BEGIN:VTIMEZONE
TZID:America/Vancouver
BEGIN:DAYLIGHT
TZOFFSETFROM:-0800
TZOFFSETTO:-0700
TZNAME:PDT
DTSTART:20260308T100000
END:DAYLIGHT
BEGIN:STANDARD
TZOFFSETFROM:-0700
TZOFFSETTO:-0800
TZNAME:PST
DTSTART:20261101T090000
END:STANDARD
END:VTIMEZONE
BEGIN:VEVENT
DTSTART;TZID=America/Vancouver:20260122T120000
DTEND;TZID=America/Vancouver:20260122T130000
DTSTAMP:20260424T073809
CREATED:20260106T175333Z
LAST-MODIFIED:20260106T180933Z
UID:144670-1769083200-1769086800@bcacc.ca
SUMMARY:Information session on joining the ICBC Recovery Network
DESCRIPTION:Information session on joining the ICBC Recovery Network \nIf you are a Registered Clinical Counsellor or a Student Member of BCACC\, this Lunch and Learn session is for you. \nTopics we’ll cover: \n\nIntroduction to ICBC Enhanced Care\nICBC Recovery Network\nWorking with ICBC as a Registered Clinical Counsellor\nQuestion period\n\nResource: https://partners.icbc.com/health-services
URL:https://bcacc.ca/events/information-session-on-joining-the-icbc-recovery-network/
LOCATION:Online\, BC\, Canada
CATEGORIES:Member Only Event
ATTACH;FMTTYPE=image/jpeg:https://bcacc.ca/wp-content/uploads/2026/01/Workshop-2024-05-30-MPower-crop.jpg
ORGANIZER;CN="BC%20Association%20of%20Clinical%20Counsellors":MAILTO:hoffice@bc-counsellors.org
END:VEVENT
END:VCALENDAR