BEGIN:VCALENDAR
VERSION:2.0
PRODID:-//BC Association of Clinical Counsellors - ECPv5.16.2.1//NONSGML v1.0//EN
CALSCALE:GREGORIAN
METHOD:PUBLISH
X-WR-CALNAME:BC Association of Clinical Counsellors
X-ORIGINAL-URL:https://bcacc.ca
X-WR-CALDESC:Events for BC Association of Clinical Counsellors
REFRESH-INTERVAL;VALUE=DURATION:PT1H
X-Robots-Tag:noindex
X-PUBLISHED-TTL:PT1H
BEGIN:VTIMEZONE
TZID:America/Vancouver
BEGIN:DAYLIGHT
TZOFFSETFROM:-0800
TZOFFSETTO:-0700
TZNAME:PDT
DTSTART:20240310T100000
END:DAYLIGHT
BEGIN:STANDARD
TZOFFSETFROM:-0700
TZOFFSETTO:-0800
TZNAME:PST
DTSTART:20241103T090000
END:STANDARD
END:VTIMEZONE
BEGIN:VEVENT
DTSTART;TZID=America/Vancouver:20240406T090000
DTEND;TZID=America/Vancouver:20240406T150000
DTSTAMP:20260425T062602
CREATED:20240226T175529Z
LAST-MODIFIED:20240226T175529Z
UID:132076-1712394000-1712415600@bcacc.ca
SUMMARY:Focusing Oriented Therapy Training and Certification
DESCRIPTION:FOT is a remarkably effective somatic approach\, particularly valuable for working with trauma and clients who are ‘stuck’\, and for preventing therapist burn-out. \nFocusing was developed by Dr. Eugene Gendlin\, a colleague and key contributor to the work of Carl Rogers.  Gendlin’s research sought to answer the question – \nWhy are some clients successful in counselling\, while others are not?\nWhat he found was that the counsellor’s modality wasn’t the definitive difference; rather it was something the successful clients themselves were doing.  They had a way of checking inside\, of listening to an internal voice that was distinctly different from the more familiar conscious ‘thinking brain.’  His research led him to develop a series of steps to teach therapists how to guide clients to tune in to this individual inner voice.  That personal\, unconscious voice is what takes a client past their thinking brain and down into the core of their issues.  The method allows them to consistently go to the edge of the unknown and tap into what needs to happen next so that the healing process can start its forward movement. \nParticipants are welcome to attend single modules or the complete 16-month series\, and may become certified as a “Focusing Oriented Therapist” (FOT).
URL:https://bcacc.ca/events/focusing-oriented-therapy-training-and-certification-2/
LOCATION:Online and in Langley\, BC
END:VEVENT
BEGIN:VEVENT
DTSTART;TZID=America/Vancouver:20240427T090000
DTEND;TZID=America/Vancouver:20240427T150000
DTSTAMP:20260425T062602
CREATED:20240226T175529Z
LAST-MODIFIED:20240226T175529Z
UID:132081-1714208400-1714230000@bcacc.ca
SUMMARY:Focusing Oriented Therapy Training and Certification
DESCRIPTION:FOT is a remarkably effective somatic approach\, particularly valuable for working with trauma and clients who are ‘stuck’\, and for preventing therapist burn-out. \nFocusing was developed by Dr. Eugene Gendlin\, a colleague and key contributor to the work of Carl Rogers.  Gendlin’s research sought to answer the question – \nWhy are some clients successful in counselling\, while others are not?\nWhat he found was that the counsellor’s modality wasn’t the definitive difference; rather it was something the successful clients themselves were doing.  They had a way of checking inside\, of listening to an internal voice that was distinctly different from the more familiar conscious ‘thinking brain.’  His research led him to develop a series of steps to teach therapists how to guide clients to tune in to this individual inner voice.  That personal\, unconscious voice is what takes a client past their thinking brain and down into the core of their issues.  The method allows them to consistently go to the edge of the unknown and tap into what needs to happen next so that the healing process can start its forward movement. \nParticipants are welcome to attend single modules or the complete 16-month series\, and may become certified as a “Focusing Oriented Therapist” (FOT).
URL:https://bcacc.ca/events/focusing-oriented-therapy-training-and-certification-2/2024-04-27/
LOCATION:Online and in Langley\, BC
END:VEVENT
BEGIN:VEVENT
DTSTART;TZID=America/Vancouver:20240504T090000
DTEND;TZID=America/Vancouver:20240504T150000
DTSTAMP:20260425T062602
CREATED:20240226T175529Z
LAST-MODIFIED:20240226T175529Z
UID:132082-1714813200-1714834800@bcacc.ca
SUMMARY:Focusing Oriented Therapy Training and Certification
DESCRIPTION:FOT is a remarkably effective somatic approach\, particularly valuable for working with trauma and clients who are ‘stuck’\, and for preventing therapist burn-out. \nFocusing was developed by Dr. Eugene Gendlin\, a colleague and key contributor to the work of Carl Rogers.  Gendlin’s research sought to answer the question – \nWhy are some clients successful in counselling\, while others are not?\nWhat he found was that the counsellor’s modality wasn’t the definitive difference; rather it was something the successful clients themselves were doing.  They had a way of checking inside\, of listening to an internal voice that was distinctly different from the more familiar conscious ‘thinking brain.’  His research led him to develop a series of steps to teach therapists how to guide clients to tune in to this individual inner voice.  That personal\, unconscious voice is what takes a client past their thinking brain and down into the core of their issues.  The method allows them to consistently go to the edge of the unknown and tap into what needs to happen next so that the healing process can start its forward movement. \nParticipants are welcome to attend single modules or the complete 16-month series\, and may become certified as a “Focusing Oriented Therapist” (FOT).
URL:https://bcacc.ca/events/focusing-oriented-therapy-training-and-certification-2/2024-05-04/
LOCATION:Online and in Langley\, BC
END:VEVENT
BEGIN:VEVENT
DTSTART;TZID=America/Vancouver:20240511T090000
DTEND;TZID=America/Vancouver:20240511T150000
DTSTAMP:20260425T062602
CREATED:20240226T175529Z
LAST-MODIFIED:20240226T175529Z
UID:132083-1715418000-1715439600@bcacc.ca
SUMMARY:Focusing Oriented Therapy Training and Certification
DESCRIPTION:FOT is a remarkably effective somatic approach\, particularly valuable for working with trauma and clients who are ‘stuck’\, and for preventing therapist burn-out. \nFocusing was developed by Dr. Eugene Gendlin\, a colleague and key contributor to the work of Carl Rogers.  Gendlin’s research sought to answer the question – \nWhy are some clients successful in counselling\, while others are not?\nWhat he found was that the counsellor’s modality wasn’t the definitive difference; rather it was something the successful clients themselves were doing.  They had a way of checking inside\, of listening to an internal voice that was distinctly different from the more familiar conscious ‘thinking brain.’  His research led him to develop a series of steps to teach therapists how to guide clients to tune in to this individual inner voice.  That personal\, unconscious voice is what takes a client past their thinking brain and down into the core of their issues.  The method allows them to consistently go to the edge of the unknown and tap into what needs to happen next so that the healing process can start its forward movement. \nParticipants are welcome to attend single modules or the complete 16-month series\, and may become certified as a “Focusing Oriented Therapist” (FOT).
URL:https://bcacc.ca/events/focusing-oriented-therapy-training-and-certification-2/2024-05-11/
LOCATION:Online and in Langley\, BC
END:VEVENT
BEGIN:VEVENT
DTSTART;TZID=America/Vancouver:20240518T090000
DTEND;TZID=America/Vancouver:20240518T150000
DTSTAMP:20260425T062602
CREATED:20240226T175529Z
LAST-MODIFIED:20240226T175529Z
UID:132084-1716022800-1716044400@bcacc.ca
SUMMARY:Focusing Oriented Therapy Training and Certification
DESCRIPTION:FOT is a remarkably effective somatic approach\, particularly valuable for working with trauma and clients who are ‘stuck’\, and for preventing therapist burn-out. \nFocusing was developed by Dr. Eugene Gendlin\, a colleague and key contributor to the work of Carl Rogers.  Gendlin’s research sought to answer the question – \nWhy are some clients successful in counselling\, while others are not?\nWhat he found was that the counsellor’s modality wasn’t the definitive difference; rather it was something the successful clients themselves were doing.  They had a way of checking inside\, of listening to an internal voice that was distinctly different from the more familiar conscious ‘thinking brain.’  His research led him to develop a series of steps to teach therapists how to guide clients to tune in to this individual inner voice.  That personal\, unconscious voice is what takes a client past their thinking brain and down into the core of their issues.  The method allows them to consistently go to the edge of the unknown and tap into what needs to happen next so that the healing process can start its forward movement. \nParticipants are welcome to attend single modules or the complete 16-month series\, and may become certified as a “Focusing Oriented Therapist” (FOT).
URL:https://bcacc.ca/events/focusing-oriented-therapy-training-and-certification-2/2024-05-18/
LOCATION:Online and in Langley\, BC
END:VEVENT
BEGIN:VEVENT
DTSTART;TZID=America/Vancouver:20240525T090000
DTEND;TZID=America/Vancouver:20240525T150000
DTSTAMP:20260425T062602
CREATED:20240226T175529Z
LAST-MODIFIED:20240226T175529Z
UID:132085-1716627600-1716649200@bcacc.ca
SUMMARY:Focusing Oriented Therapy Training and Certification
DESCRIPTION:FOT is a remarkably effective somatic approach\, particularly valuable for working with trauma and clients who are ‘stuck’\, and for preventing therapist burn-out. \nFocusing was developed by Dr. Eugene Gendlin\, a colleague and key contributor to the work of Carl Rogers.  Gendlin’s research sought to answer the question – \nWhy are some clients successful in counselling\, while others are not?\nWhat he found was that the counsellor’s modality wasn’t the definitive difference; rather it was something the successful clients themselves were doing.  They had a way of checking inside\, of listening to an internal voice that was distinctly different from the more familiar conscious ‘thinking brain.’  His research led him to develop a series of steps to teach therapists how to guide clients to tune in to this individual inner voice.  That personal\, unconscious voice is what takes a client past their thinking brain and down into the core of their issues.  The method allows them to consistently go to the edge of the unknown and tap into what needs to happen next so that the healing process can start its forward movement. \nParticipants are welcome to attend single modules or the complete 16-month series\, and may become certified as a “Focusing Oriented Therapist” (FOT).
URL:https://bcacc.ca/events/focusing-oriented-therapy-training-and-certification-2/2024-05-25/
LOCATION:Online and in Langley\, BC
END:VEVENT
BEGIN:VEVENT
DTSTART;TZID=America/Vancouver:20240601T090000
DTEND;TZID=America/Vancouver:20240601T150000
DTSTAMP:20260425T062602
CREATED:20240226T175529Z
LAST-MODIFIED:20240226T175529Z
UID:132086-1717232400-1717254000@bcacc.ca
SUMMARY:Focusing Oriented Therapy Training and Certification
DESCRIPTION:FOT is a remarkably effective somatic approach\, particularly valuable for working with trauma and clients who are ‘stuck’\, and for preventing therapist burn-out. \nFocusing was developed by Dr. Eugene Gendlin\, a colleague and key contributor to the work of Carl Rogers.  Gendlin’s research sought to answer the question – \nWhy are some clients successful in counselling\, while others are not?\nWhat he found was that the counsellor’s modality wasn’t the definitive difference; rather it was something the successful clients themselves were doing.  They had a way of checking inside\, of listening to an internal voice that was distinctly different from the more familiar conscious ‘thinking brain.’  His research led him to develop a series of steps to teach therapists how to guide clients to tune in to this individual inner voice.  That personal\, unconscious voice is what takes a client past their thinking brain and down into the core of their issues.  The method allows them to consistently go to the edge of the unknown and tap into what needs to happen next so that the healing process can start its forward movement. \nParticipants are welcome to attend single modules or the complete 16-month series\, and may become certified as a “Focusing Oriented Therapist” (FOT).
URL:https://bcacc.ca/events/focusing-oriented-therapy-training-and-certification-2/2024-06-01/
LOCATION:Online and in Langley\, BC
END:VEVENT
BEGIN:VEVENT
DTSTART;TZID=America/Vancouver:20240608T090000
DTEND;TZID=America/Vancouver:20240608T150000
DTSTAMP:20260425T062602
CREATED:20240226T175529Z
LAST-MODIFIED:20240226T175529Z
UID:132087-1717837200-1717858800@bcacc.ca
SUMMARY:Focusing Oriented Therapy Training and Certification
DESCRIPTION:FOT is a remarkably effective somatic approach\, particularly valuable for working with trauma and clients who are ‘stuck’\, and for preventing therapist burn-out. \nFocusing was developed by Dr. Eugene Gendlin\, a colleague and key contributor to the work of Carl Rogers.  Gendlin’s research sought to answer the question – \nWhy are some clients successful in counselling\, while others are not?\nWhat he found was that the counsellor’s modality wasn’t the definitive difference; rather it was something the successful clients themselves were doing.  They had a way of checking inside\, of listening to an internal voice that was distinctly different from the more familiar conscious ‘thinking brain.’  His research led him to develop a series of steps to teach therapists how to guide clients to tune in to this individual inner voice.  That personal\, unconscious voice is what takes a client past their thinking brain and down into the core of their issues.  The method allows them to consistently go to the edge of the unknown and tap into what needs to happen next so that the healing process can start its forward movement. \nParticipants are welcome to attend single modules or the complete 16-month series\, and may become certified as a “Focusing Oriented Therapist” (FOT).
URL:https://bcacc.ca/events/focusing-oriented-therapy-training-and-certification-2/2024-06-08/
LOCATION:Online and in Langley\, BC
END:VEVENT
BEGIN:VEVENT
DTSTART;TZID=America/Vancouver:20240615T090000
DTEND;TZID=America/Vancouver:20240615T150000
DTSTAMP:20260425T062602
CREATED:20240226T175529Z
LAST-MODIFIED:20240226T175529Z
UID:132088-1718442000-1718463600@bcacc.ca
SUMMARY:Focusing Oriented Therapy Training and Certification
DESCRIPTION:FOT is a remarkably effective somatic approach\, particularly valuable for working with trauma and clients who are ‘stuck’\, and for preventing therapist burn-out. \nFocusing was developed by Dr. Eugene Gendlin\, a colleague and key contributor to the work of Carl Rogers.  Gendlin’s research sought to answer the question – \nWhy are some clients successful in counselling\, while others are not?\nWhat he found was that the counsellor’s modality wasn’t the definitive difference; rather it was something the successful clients themselves were doing.  They had a way of checking inside\, of listening to an internal voice that was distinctly different from the more familiar conscious ‘thinking brain.’  His research led him to develop a series of steps to teach therapists how to guide clients to tune in to this individual inner voice.  That personal\, unconscious voice is what takes a client past their thinking brain and down into the core of their issues.  The method allows them to consistently go to the edge of the unknown and tap into what needs to happen next so that the healing process can start its forward movement. \nParticipants are welcome to attend single modules or the complete 16-month series\, and may become certified as a “Focusing Oriented Therapist” (FOT).
URL:https://bcacc.ca/events/focusing-oriented-therapy-training-and-certification-2/2024-06-15/
LOCATION:Online and in Langley\, BC
END:VEVENT
END:VCALENDAR